BEGIN:VCALENDAR
VERSION:2.0
PRODID:-//Wiesbadener Pasta Tafel - ECPv6.15.20//NONSGML v1.0//EN
CALSCALE:GREGORIAN
METHOD:PUBLISH
X-WR-CALNAME:Wiesbadener Pasta Tafel
X-ORIGINAL-URL:https://pasta-tafel.de
X-WR-CALDESC:Veranstaltungen für Wiesbadener Pasta Tafel
REFRESH-INTERVAL;VALUE=DURATION:PT1H
X-Robots-Tag:noindex
X-PUBLISHED-TTL:PT1H
BEGIN:VTIMEZONE
TZID:UTC
BEGIN:STANDARD
TZOFFSETFROM:+0000
TZOFFSETTO:+0000
TZNAME:UTC
DTSTART:20240101T000000
END:STANDARD
END:VTIMEZONE
BEGIN:VEVENT
DTSTART;TZID=UTC:20250824T163000
DTEND;TZID=UTC:20250824T210000
DTSTAMP:20260421T141936
CREATED:20220726T074408Z
LAST-MODIFIED:20250627T084636Z
UID:75-1756053000-1756069200@pasta-tafel.de
SUMMARY:Anmeldung zur Wiesbadener Pasta Tafel
DESCRIPTION:Die Anmeldung ist vorerst beendet. Über 400 Pasta Fans haben sich bereits registriert.\nWir schauen gerade nach ob wir noch mehr Tische im Keller haben und bitten um etwas Geduld. \nPer E-Mail an hello@pasta-tafel.de kannst Du dich bereits auf die Warteliste setzen lassen.\nBitte teile uns hierfür Name und E-Mailadresse jeder Person\, die Du auf die Warteliste setzen möchtest\, mit.\nSobald ein Platz frei wird\, geben wir dir Bescheid. \nUnvollständige Wartelisten-Anfragen können wir nicht bearbeiten und bitten um Verständnis. \n   \n\n\n 
URL:https://pasta-tafel.de/event/pasta-tafel
LOCATION:Entlang der Straße der Adolfsallee 21 – 35​\, Adolfsallee 21\, Wiesbaden\, Hessen\, 65189\, Deutschland
END:VEVENT
END:VCALENDAR